BEGIN:VCALENDAR
VERSION:2.0
PRODID:-//Shrewley Parish Council//Meeting Calendar//EN
CALSCALE:GREGORIAN
METHOD:PUBLISH
BEGIN:VEVENT
UID:70619-20241125@shrewleyparish.gov.uk
DTSTAMP:20260424T093835Z
DTSTART;VALUE=DATE:20241125
DTEND;VALUE=DATE:20241126
SUMMARY:Full Council Meeting &#8211\\; 25th November 2024
DESCRIPTION:Full Council Meeting\nView details: https://shrewleyparish.gov.uk/meetings/parish-council-ordinary-meeting/
URL:https://shrewleyparish.gov.uk/meetings/parish-council-ordinary-meeting/
END:VEVENT
END:VCALENDAR
