BEGIN:VCALENDAR
VERSION:2.0
PRODID:-//Shrewley Parish Council//Meeting Calendar//EN
CALSCALE:GREGORIAN
METHOD:PUBLISH
BEGIN:VEVENT
UID:70959-20250303@shrewleyparish.gov.uk
DTSTAMP:20260424T081731Z
DTSTART;VALUE=DATE:20250303
DTEND;VALUE=DATE:20250304
SUMMARY:Full Council Meeting &#8211\\; Monday 3rd March 2025
DESCRIPTION:Full Council Meeting\nView details: https://shrewleyparish.gov.uk/meetings/full-council-meeting-monday-3rd-march-2025/
URL:https://shrewleyparish.gov.uk/meetings/full-council-meeting-monday-3rd-march-2025/
END:VEVENT
END:VCALENDAR
