BEGIN:VCALENDAR
VERSION:2.0
PRODID:-//Shrewley Parish Council//Meeting Calendar//EN
CALSCALE:GREGORIAN
METHOD:PUBLISH
BEGIN:VEVENT
UID:70961-20250506@shrewleyparish.gov.uk
DTSTAMP:20260424T081930Z
DTSTART;VALUE=DATE:20250506
DTEND;VALUE=DATE:20250507
SUMMARY:Full Council Annual Meeting &#8211\\; Tuesday 6th May 2025
DESCRIPTION:Full Council Meeting\nView details: https://shrewleyparish.gov.uk/meetings/full-council-annual-meeting-tuesday-6th-may-2025/
URL:https://shrewleyparish.gov.uk/meetings/full-council-annual-meeting-tuesday-6th-may-2025/
END:VEVENT
END:VCALENDAR
