BEGIN:VCALENDAR
VERSION:2.0
PRODID:-//Shrewley Parish Council//Meeting Calendar//EN
CALSCALE:GREGORIAN
METHOD:PUBLISH
BEGIN:VEVENT
UID:70963-20250901@shrewleyparish.gov.uk
DTSTAMP:20260421T081837Z
DTSTART;VALUE=DATE:20250901
DTEND;VALUE=DATE:20250902
SUMMARY:Full Council Meeting &#8211\\; Monday 1st September 2025
DESCRIPTION:Full Council Meeting\nView details: https://shrewleyparish.gov.uk/meetings/full-council-meeting-monday-1st-september-2025/
URL:https://shrewleyparish.gov.uk/meetings/full-council-meeting-monday-1st-september-2025/
END:VEVENT
END:VCALENDAR
