BEGIN:VCALENDAR
VERSION:2.0
PRODID:-//Shrewley Parish Council//Meeting Calendar//EN
CALSCALE:GREGORIAN
METHOD:PUBLISH
BEGIN:VEVENT
UID:71319-20260505@shrewleyparish.gov.uk
DTSTAMP:20260423T083045Z
DTSTART;VALUE=DATE:20260505
DTEND;VALUE=DATE:20260506
SUMMARY:Parish Annual Assembly followed by Annual Parish Council Meeting Tuesday 5th May 2026
DESCRIPTION:Annual Meeting\nView details: https://shrewleyparish.gov.uk/meetings/parish-annual-assembly-followed-by-annual-parish-council-meeting-tuesday-5th-may-2026/
URL:https://shrewleyparish.gov.uk/meetings/parish-annual-assembly-followed-by-annual-parish-council-meeting-tuesday-5th-may-2026/
END:VEVENT
END:VCALENDAR
