BEGIN:VCALENDAR
VERSION:2.0
PRODID:-//Shrewley Parish Council//Meeting Calendar//EN
CALSCALE:GREGORIAN
METHOD:PUBLISH
BEGIN:VEVENT
UID:71320-20260706@shrewleyparish.gov.uk
DTSTAMP:20260423T082329Z
DTSTART;VALUE=DATE:20260706
DTEND;VALUE=DATE:20260707
SUMMARY:Full Council Meeting Monday 6th July 2026
DESCRIPTION:Full Council Meeting\nView details: https://shrewleyparish.gov.uk/meetings/full-council-meeting-monday-6th-july-2026/
URL:https://shrewleyparish.gov.uk/meetings/full-council-meeting-monday-6th-july-2026/
END:VEVENT
END:VCALENDAR
